BEGIN:VCALENDAR
VERSION:2.0
PRODID:Events Booking
BEGIN:VEVENT
UID:69e522c9db424
SUMMARY:Approccio Mini-Invasivo in Chirurgia Toracica 
DESCRIPTION:
DTSTART:20170410T220000Z
DTEND:20170410T220000Z
DTSTAMP:20260419T184529Z
ORGANIZER;CN=Askservice:MAILTO:info@askservice.it
END:VEVENT
END:VCALENDAR