BEGIN:VCALENDAR
VERSION:2.0
PRODID:Events Booking
BEGIN:VEVENT
UID:69e52303c1f7b
SUMMARY:Approccio Mini-invasivo e Robotico in Chirurgia Toracica dicembre 2
 018
DESCRIPTION:
DTSTART:20181209T230000Z
DTEND:20181209T230000Z
DTSTAMP:20260419T184627Z
ORGANIZER;CN=Askservice:MAILTO:info@askservice.it
END:VEVENT
END:VCALENDAR