BEGIN:VCALENDAR
VERSION:2.0
PRODID:Events Booking
BEGIN:VEVENT
UID:69e53ac7d9488
SUMMARY:7° ED.CHIRURGIA LAPORCOPICA DELLA PARETE ADDOMINALE
DESCRIPTION:
DTSTART:20151005T220000Z
DTEND:20151005T220000Z
DTSTAMP:20260419T202751Z
ORGANIZER;CN=Askservice:MAILTO:info@askservice.it
END:VEVENT
END:VCALENDAR