BEGIN:VCALENDAR
VERSION:2.0
PRODID:Events Booking
BEGIN:VEVENT
UID:69e50d9444141
SUMMARY:30TH WORLD GLIDING CHAMPIONSHIP  RIETI 2008  campionato mondiale as
 soluto di volo a vela
DESCRIPTION:
DTSTART:20080630T220000Z
DTEND:20080630T220000Z
DTSTAMP:20260419T171500Z
ORGANIZER;CN=Askservice:MAILTO:info@askservice.it
END:VEVENT
END:VCALENDAR