BEGIN:VCALENDAR
VERSION:2.0
PRODID:Events Booking
BEGIN:VEVENT
UID:69e55275891ee
SUMMARY:Incontro Gruppo Coloproctologico Toscano
DESCRIPTION:
DTSTART:20170510T220000Z
DTEND:20170510T220000Z
DTSTAMP:20260419T220853Z
ORGANIZER;CN=Askservice:MAILTO:info@askservice.it
END:VEVENT
END:VCALENDAR