BEGIN:VCALENDAR
VERSION:2.0
PRODID:Events Booking
BEGIN:VEVENT
UID:69e5225237498
SUMMARY:Il Trattamento Laparoscopico della Colicistite Acuta
DESCRIPTION:
DTSTART:20090611T220000Z
DTEND:20090611T220000Z
DTSTAMP:20260419T184330Z
ORGANIZER;CN=Askservice:MAILTO:info@askservice.it
END:VEVENT
END:VCALENDAR