BEGIN:VCALENDAR
VERSION:2.0
PRODID:Events Booking
BEGIN:VEVENT
UID:69e522b0814e7
SUMMARY:Il Trattamento del Cancro del Terzo Inferiore del Retto
DESCRIPTION:
DTSTART:20100128T230000Z
DTEND:20100128T230000Z
DTSTAMP:20260419T184504Z
ORGANIZER;CN=Askservice:MAILTO:info@askservice.it
END:VEVENT
END:VCALENDAR