BEGIN:VCALENDAR
VERSION:2.0
PRODID:Events Booking
BEGIN:VEVENT
UID:69e539aebda86
SUMMARY:Il futuro ha le mani d'acciaio?
DESCRIPTION:
DTSTART:20130618T220000Z
DTEND:20130618T220000Z
DTSTAMP:20260419T202310Z
ORGANIZER;CN=Askservice:MAILTO:info@askservice.it
END:VEVENT
END:VCALENDAR