BEGIN:VCALENDAR
VERSION:2.0
PRODID:Events Booking
BEGIN:VEVENT
UID:69e5220040027
SUMMARY:III° Con-vivere - America Oggi
DESCRIPTION:
DTSTART:20090910T220000Z
DTEND:20090910T220000Z
DTSTAMP:20260419T184208Z
ORGANIZER;CN=Askservice:MAILTO:info@askservice.it
END:VEVENT
END:VCALENDAR