BEGIN:VCALENDAR
VERSION:2.0
PRODID:Events Booking
BEGIN:VEVENT
UID:69e523af69e5e
SUMMARY:II° Edizione Festival CON-VIVERE CARRARA FESTIVAL
DESCRIPTION:
DTSTART:20080906T220000Z
DTEND:20080906T220000Z
DTSTAMP:20260419T184919Z
ORGANIZER;CN=Askservice:MAILTO:info@askservice.it
END:VEVENT
END:VCALENDAR