BEGIN:VCALENDAR
VERSION:2.0
PRODID:Events Booking
BEGIN:VEVENT
UID:69e5223a896a0
SUMMARY:Gestione Biglietteria - Massese Calcio
DESCRIPTION:
DTSTART:20040728T220000Z
DTEND:20040728T220000Z
DTSTAMP:20260419T184306Z
ORGANIZER;CN=Askservice:MAILTO:info@askservice.it
END:VEVENT
END:VCALENDAR