BEGIN:VCALENDAR
VERSION:2.0
PRODID:Events Booking
BEGIN:VEVENT
UID:69e50cc3dd04b
SUMMARY:Gestione Biglietteria - Carrarese Calcio
DESCRIPTION:
DTSTART:20010221T230000Z
DTEND:20010221T230000Z
DTSTAMP:20260419T171131Z
ORGANIZER;CN=Askservice:MAILTO:info@askservice.it
END:VEVENT
END:VCALENDAR