BEGIN:VCALENDAR
VERSION:2.0
PRODID:Events Booking
BEGIN:VEVENT
UID:69e538f92129c
SUMMARY:Full Immersion In Thyroid Surgery
DESCRIPTION:
DTSTART:20161214T230000Z
DTEND:20161214T230000Z
DTSTAMP:20260419T202009Z
ORGANIZER;CN=Askservice:MAILTO:info@askservice.it
END:VEVENT
END:VCALENDAR