BEGIN:VCALENDAR
VERSION:2.0
PRODID:Events Booking
BEGIN:VEVENT
UID:69e52276a77f6
SUMMARY:Finale di Champions League Barcellone - Manchester United
DESCRIPTION:
DTSTART:20090526T220000Z
DTEND:20090526T220000Z
DTSTAMP:20260419T184406Z
ORGANIZER;CN=Askservice:MAILTO:info@askservice.it
END:VEVENT
END:VCALENDAR