BEGIN:VCALENDAR
VERSION:2.0
PRODID:Events Booking
BEGIN:VEVENT
UID:69e4f5321abe9
SUMMARY:SCUOLA DI RIFERIMENTO NAZIONALE SIC IN PROCTOLOGIA E PATOLOGIE DEL 
 PAVIMENTO PELVICO
DESCRIPTION:
DTSTART:20210916T063000Z
DTEND:20211119T133000Z
DTSTAMP:20260419T153058Z
ORGANIZER;CN=Askservice:MAILTO:info@askservice.it
END:VEVENT
END:VCALENDAR