BEGIN:VCALENDAR
VERSION:2.0
PRODID:Events Booking
BEGIN:VEVENT
UID:69e4f49bc6370
SUMMARY:Webinar Courses - Impact of New Technologies in Thoracic Surgery: F
 uture Perspectives
DESCRIPTION:
LOCATION:via Paradisa 2
DTSTART:20211203T130000Z
DTEND:20211203T153000Z
DTSTAMP:20260419T152827Z
ORGANIZER;CN=Askservice:MAILTO:info@askservice.it
END:VEVENT
END:VCALENDAR