BEGIN:VCALENDAR
VERSION:2.0
PRODID:Events Booking
BEGIN:VEVENT
UID:69e521a2c781d
SUMMARY:EACTS ROBOTIC LEVEL III COURSE
DESCRIPTION:
DTSTART:20120222T230000Z
DTEND:20120222T230000Z
DTSTAMP:20260419T184034Z
ORGANIZER;CN=Askservice:MAILTO:info@askservice.it
END:VEVENT
END:VCALENDAR