BEGIN:VCALENDAR
VERSION:2.0
PRODID:Events Booking
BEGIN:VEVENT
UID:69e538f99daaa
SUMMARY:EACTS ROBOTIC COURSE LEVEL III  
DESCRIPTION:
DTSTART:20140610T220000Z
DTEND:20140610T220000Z
DTSTAMP:20260419T202009Z
ORGANIZER;CN=Askservice:MAILTO:info@askservice.it
END:VEVENT
END:VCALENDAR