BEGIN:VCALENDAR
VERSION:2.0
PRODID:Events Booking
BEGIN:VEVENT
UID:69e521c69e134
SUMMARY:EACTS-AUOP JOIN MEETING
DESCRIPTION:
DTSTART:20121026T220000Z
DTEND:20121026T220000Z
DTSTAMP:20260419T184110Z
ORGANIZER;CN=Askservice:MAILTO:info@askservice.it
END:VEVENT
END:VCALENDAR