BEGIN:VCALENDAR
VERSION:2.0
PRODID:Events Booking
BEGIN:VEVENT
UID:69e526f1eab44
SUMMARY:Delegato alla sicurezza Gara Amichevole Nazionale Italiana calcio -
  Irlanda del Nord
DESCRIPTION:
DTSTART:20090605T220000Z
DTEND:20090605T220000Z
DTSTAMP:20260419T190313Z
ORGANIZER;CN=Askservice:MAILTO:info@askservice.it
END:VEVENT
END:VCALENDAR