BEGIN:VCALENDAR
VERSION:2.0
PRODID:Events Booking
BEGIN:VEVENT
UID:69e521f9ae5c3
SUMMARY:Delegato alla Sicurezza AC PISA 1909
DESCRIPTION:
DTSTART:20090731T220000Z
DTEND:20090731T220000Z
DTSTAMP:20260419T184201Z
ORGANIZER;CN=Askservice:MAILTO:info@askservice.it
END:VEVENT
END:VCALENDAR