BEGIN:VCALENDAR
VERSION:2.0
PRODID:Events Booking
BEGIN:VEVENT
UID:69e539b79867c
SUMMARY:CORSO DI FORMAZIONE IN ENDOCRINOCHIRURGIA settembre 2018
DESCRIPTION:
DTSTART:20180916T220000Z
DTEND:20190917T220000Z
DTSTAMP:20260419T202319Z
ORGANIZER;CN=Askservice:MAILTO:info@askservice.it
END:VEVENT
END:VCALENDAR