BEGIN:VCALENDAR
VERSION:2.0
PRODID:Events Booking
BEGIN:VEVENT
UID:69e522527da46
SUMMARY:Corsi Seminari e Incontri di Aggiornamento
DESCRIPTION:
DTSTART:20070412T220000Z
DTEND:20070412T220000Z
DTSTAMP:20260419T184330Z
ORGANIZER;CN=Askservice:MAILTO:info@askservice.it
END:VEVENT
END:VCALENDAR