BEGIN:VCALENDAR
VERSION:2.0
PRODID:Events Booking
BEGIN:VEVENT
UID:69e53a6a9cb48
SUMMARY:Corsi Residenziali di Chirurgia Bariatrica Laparoscopica 2013
DESCRIPTION:
DTSTART:20130609T220000Z
DTEND:20130609T220000Z
DTSTAMP:20260419T202618Z
ORGANIZER;CN=Askservice:MAILTO:info@askservice.it
END:VEVENT
END:VCALENDAR