BEGIN:VCALENDAR
VERSION:2.0
PRODID:Events Booking
BEGIN:VEVENT
UID:69e539b7bd0da
SUMMARY:CORSI DI CHIRURGIA BARIATRICA LAPAROSCOPICA 2015
DESCRIPTION:
DTSTART:20150315T230000Z
DTEND:20150315T230000Z
DTSTAMP:20260419T202319Z
ORGANIZER;CN=Askservice:MAILTO:info@askservice.it
END:VEVENT
END:VCALENDAR