BEGIN:VCALENDAR
VERSION:2.0
PRODID:Events Booking
BEGIN:VEVENT
UID:69e525c0e2d73
SUMMARY:Convegno Chirurgia Laparoscopica della Parete Addominale
DESCRIPTION:
DTSTART:20101130T230000Z
DTEND:20101130T230000Z
DTSTAMP:20260419T185808Z
ORGANIZER;CN=Askservice:MAILTO:info@askservice.it
END:VEVENT
END:VCALENDAR