BEGIN:VCALENDAR
VERSION:2.0
PRODID:Events Booking
BEGIN:VEVENT
UID:69e5227205fae
SUMMARY:Chirurgia Laparoscopica della Parete Addominale
DESCRIPTION:
DTSTART:20111113T230000Z
DTEND:20111113T230000Z
DTSTAMP:20260419T184402Z
ORGANIZER;CN=Askservice:MAILTO:info@askservice.it
END:VEVENT
END:VCALENDAR