BEGIN:VCALENDAR
VERSION:2.0
PRODID:Events Booking
BEGIN:VEVENT
UID:69e538da597f2
SUMMARY:APPROCCIO MINI-INVASIVO E ROBOTICO IN CHIRURGIA TORACICA NOVEMBRE 2
 019
DESCRIPTION:
DTSTART:20191118T230000Z
DTEND:20191118T230000Z
DTSTAMP:20260419T201938Z
ORGANIZER;CN=Askservice:MAILTO:info@askservice.it
END:VEVENT
END:VCALENDAR