BEGIN:VCALENDAR
VERSION:2.0
PRODID:Events Booking
BEGIN:VEVENT
UID:69e53963c7396
SUMMARY:Anal Fistula: from €œpast-e€ to the future  
DESCRIPTION:
DTSTART:20130919T220000Z
DTEND:20130919T220000Z
DTSTAMP:20260419T202155Z
ORGANIZER;CN=Askservice:MAILTO:info@askservice.it
END:VEVENT
END:VCALENDAR