BEGIN:VCALENDAR
VERSION:2.0
PRODID:Events Booking
BEGIN:VEVENT
UID:69e551bea2379
SUMMARY:8° ED.CHIRURGIA LAPORCOPICA DELLA PARETE ADDOMINALE
DESCRIPTION:
DTSTART:20160404T220000Z
DTEND:20160404T220000Z
DTSTAMP:20260419T220550Z
ORGANIZER;CN=Askservice:MAILTO:info@askservice.it
END:VEVENT
END:VCALENDAR