BEGIN:VCALENDAR
VERSION:2.0
PRODID:Events Booking
BEGIN:VEVENT
UID:69e522ca0bc65
SUMMARY:15° Corso di Chirurgia Bariatrica e Metabolica Laparoscopica
DESCRIPTION:
DTSTART:20120520T220000Z
DTEND:20120520T220000Z
DTSTAMP:20260419T184530Z
ORGANIZER;CN=Askservice:MAILTO:info@askservice.it
END:VEVENT
END:VCALENDAR