BEGIN:VCALENDAR
VERSION:2.0
PRODID:Events Booking
BEGIN:VEVENT
UID:69e522ca14cbe
SUMMARY:13°Corso Residenziale di Chirurgia Metabolica Laparoscopica
DESCRIPTION:
DTSTART:20111120T230000Z
DTEND:20111120T230000Z
DTSTAMP:20260419T184530Z
ORGANIZER;CN=Askservice:MAILTO:info@askservice.it
END:VEVENT
END:VCALENDAR